BEGIN:VCALENDAR
VERSION:2.0
PRODID:-//ASIA - ECPv6.12.0.1//NONSGML v1.0//EN
CALSCALE:GREGORIAN
METHOD:PUBLISH
X-ORIGINAL-URL:https://www.asiaohio.org
X-WR-CALDESC:Events for ASIA
REFRESH-INTERVAL;VALUE=DURATION:PT1H
X-Robots-Tag:noindex
X-PUBLISHED-TTL:PT1H
BEGIN:VTIMEZONE
TZID:UTC
BEGIN:STANDARD
TZOFFSETFROM:+0000
TZOFFSETTO:+0000
TZNAME:UTC
DTSTART:20230101T000000
END:STANDARD
END:VTIMEZONE
BEGIN:VEVENT
DTSTART;TZID=UTC:20230114T123000
DTEND;TZID=UTC:20230114T133000
DTSTAMP:20260420T105124
CREATED:20230112T193733Z
LAST-MODIFIED:20230112T193733Z
UID:10000101-1673699400-1673703000@www.asiaohio.org
SUMMARY:Mayoral Candidate Forum
DESCRIPTION:We are hosting a Mayoral Candidate Forum at Live Mon-Thai Malay Restaurant for you to meet the individuals running for mayor of Akron! On Saturday\, January 14\, come to learn more about the candidates and what they envision for your city. Free lunch will be served while supplies last! \nWHEN: Saturday\, January 14\nDoors open 12PM\nLunch and Forum is 12:30PM-1:30PM \nWHERE: Live Mon-Thai Malay Restaurant\n1312 Brittain Rd\nAkron\, OH 44310 \nAll mayoral candidates have been invited to attend. Confirmed attendees currently are:\nShammas Malik\nKeith Mills\nTara Mosley\nJoshua Schaffer\nMarco Sommerville\nJeff Wilhite \nTake part in your city’s future!
URL:https://www.asiaohio.org/event/mayoral-candidate-forum/
LOCATION:1312 Brittain Rd\, Akron\, OH 44310\, 1312 Brittain Rd\, Akron\, OH\, 44310\, United States
ATTACH;FMTTYPE=image/png:https://www.asiaohio.org/wp-content/uploads/2023/01/Lunch-with-the-Electors-1080-×-1080-px4.png
ORGANIZER;CN="Asian Services in Action (ASIA)":MAILTO:info@asiaohio.org
GEO:41.0986655;-81.4668243
X-APPLE-STRUCTURED-LOCATION;VALUE=URI;X-ADDRESS=1312 Brittain Rd Akron OH 44310 1312 Brittain Rd Akron OH 44310 United States;X-APPLE-RADIUS=500;X-TITLE=1312 Brittain Rd:geo:-81.4668243,41.0986655
END:VEVENT
END:VCALENDAR